BEGIN:VCALENDAR
VERSION:2.0
PRODID:-//META Solutions - ECPv6.15.20//NONSGML v1.0//EN
CALSCALE:GREGORIAN
METHOD:PUBLISH
X-WR-CALNAME:META Solutions
X-ORIGINAL-URL:https://www.metasolutions.net
X-WR-CALDESC:Events for META Solutions
REFRESH-INTERVAL;VALUE=DURATION:PT1H
X-Robots-Tag:noindex
X-PUBLISHED-TTL:PT1H
BEGIN:VTIMEZONE
TZID:America/New_York
BEGIN:DAYLIGHT
TZOFFSETFROM:-0500
TZOFFSETTO:-0400
TZNAME:EDT
DTSTART:20250309T070000
END:DAYLIGHT
BEGIN:STANDARD
TZOFFSETFROM:-0400
TZOFFSETTO:-0500
TZNAME:EST
DTSTART:20251102T060000
END:STANDARD
BEGIN:DAYLIGHT
TZOFFSETFROM:-0500
TZOFFSETTO:-0400
TZNAME:EDT
DTSTART:20260308T070000
END:DAYLIGHT
BEGIN:STANDARD
TZOFFSETFROM:-0400
TZOFFSETTO:-0500
TZNAME:EST
DTSTART:20261101T060000
END:STANDARD
BEGIN:DAYLIGHT
TZOFFSETFROM:-0500
TZOFFSETTO:-0400
TZNAME:EDT
DTSTART:20270314T070000
END:DAYLIGHT
BEGIN:STANDARD
TZOFFSETFROM:-0400
TZOFFSETTO:-0500
TZNAME:EST
DTSTART:20271107T060000
END:STANDARD
END:VTIMEZONE
BEGIN:VEVENT
DTSTART;TZID=America/New_York:20260421T090000
DTEND;TZID=America/New_York:20260421T120000
DTSTAMP:20260421T061735
CREATED:20260311T153858Z
LAST-MODIFIED:20260326T172356Z
UID:20001080-1776762000-1776772800@www.metasolutions.net
SUMMARY:Day- HYBRID - EMIS Alliance Tools to Troubleshoot Data Associated w/ Report Card
DESCRIPTION:This HYBRID event will cover Local Report Card – SIGN UP FOR EITHER IN PERSON OR ZOOM ONLY\n\nEMIS Alliance for EMIS Coordinators and district data teams to build data literacy between EMIS data and the Secure Data Center \n\nEMIS Alliance – Tools for Troubleshooting Data Associated with Local Report Card Measures. This meeting will be held as a ZOOM OR in person. This training is for the EMIS Coordinator and your district’s data team (more than one attendee from your respective district is REQUIRED by ODEW). This is the same as the last two years. You will have a chance throughout the presentation to work with your team as you look at your data associated with your LRC. Members of your data team can include the Superintendent\, Principal(s)\, Guidance\, Curriculum\, etc. Each person attending must register separately for this EMIS Alliance training.
URL:https://www.metasolutions.net/event/dayton-office-zoom-only-emis-alliance-tools-to-troubleshoot-data-associated-w-report-card/
LOCATION:Virtual Webinar
CATEGORIES:EMIS
END:VEVENT
BEGIN:VEVENT
DTSTART;TZID=America/New_York:20260421T090000
DTEND;TZID=America/New_York:20260421T150000
DTSTAMP:20260421T061735
CREATED:20251212T193108Z
LAST-MODIFIED:20260203T192404Z
UID:20000942-1776762000-1776783600@www.metasolutions.net
SUMMARY:PowerScheduler-Virtual Workday
DESCRIPTION:Individual hour long workday sessions by appointment.
URL:https://www.metasolutions.net/event/powerscheduler-virtual-workday-15/
LOCATION:Virtual Webinar
CATEGORIES:Student Services - PowerSchool
END:VEVENT
BEGIN:VEVENT
DTSTART;TZID=America/New_York:20260421T130000
DTEND;TZID=America/New_York:20260421T150000
DTSTAMP:20260421T061735
CREATED:20250715T145149Z
LAST-MODIFIED:20260421T070517Z
UID:20000347-1776776400-1776783600@www.metasolutions.net
SUMMARY:META EMIS PowerSchool Help Session-Online
DESCRIPTION:Join us for EMIS PowerSchool assistance!!\n\n\nEMIS PowerSchool Help Session are informal work sessions for you to get help with anything related to EMIS reporting. \n\nPosted by: META\nIntended audience: META PowerSchool Users\n\n\nFormat: Online only\n\nSIS Specific: Yes\, PowerSchool
URL:https://www.metasolutions.net/event/meta-emis-powerschool-help-session-online-17/
LOCATION:OH
CATEGORIES:EMIS
END:VEVENT
END:VCALENDAR