BEGIN:VCALENDAR
VERSION:2.0
PRODID:-//META Solutions - ECPv6.15.20//NONSGML v1.0//EN
CALSCALE:GREGORIAN
METHOD:PUBLISH
X-WR-CALNAME:META Solutions
X-ORIGINAL-URL:https://www.metasolutions.net
X-WR-CALDESC:Events for META Solutions
REFRESH-INTERVAL;VALUE=DURATION:PT1H
X-Robots-Tag:noindex
X-PUBLISHED-TTL:PT1H
BEGIN:VTIMEZONE
TZID:America/New_York
BEGIN:DAYLIGHT
TZOFFSETFROM:-0500
TZOFFSETTO:-0400
TZNAME:EDT
DTSTART:20250309T070000
END:DAYLIGHT
BEGIN:STANDARD
TZOFFSETFROM:-0400
TZOFFSETTO:-0500
TZNAME:EST
DTSTART:20251102T060000
END:STANDARD
BEGIN:DAYLIGHT
TZOFFSETFROM:-0500
TZOFFSETTO:-0400
TZNAME:EDT
DTSTART:20260308T070000
END:DAYLIGHT
BEGIN:STANDARD
TZOFFSETFROM:-0400
TZOFFSETTO:-0500
TZNAME:EST
DTSTART:20261101T060000
END:STANDARD
BEGIN:DAYLIGHT
TZOFFSETFROM:-0500
TZOFFSETTO:-0400
TZNAME:EDT
DTSTART:20270314T070000
END:DAYLIGHT
BEGIN:STANDARD
TZOFFSETFROM:-0400
TZOFFSETTO:-0500
TZNAME:EST
DTSTART:20271107T060000
END:STANDARD
END:VTIMEZONE
BEGIN:VEVENT
DTSTART;TZID=America/New_York:20260422T090000
DTEND;TZID=America/New_York:20260422T120000
DTSTAMP:20260422T041406
CREATED:20260223T200520Z
LAST-MODIFIED:20260223T200520Z
UID:20001034-1776848400-1776859200@www.metasolutions.net
SUMMARY:DAY- ZOOM- FY26 PB Graduate Reporting Checklist Training
DESCRIPTION:DAY- ZOOM- FY26 PB Graduate Reporting Checklist Training \nApril 22 9:00 AM- Noon \n  \nThis presentation will focus on reporting Graduate information for FY26. While this training is not a “graduate” training\, we will cover many topics that impact reporting graduating students. \nThe presentation will be via ZOOM. \n  \nThe documents for the training and the ZOOM link will be sent out to attendees when registration closes. \n  \nHosted by: META Dayton \nIntended Audience: any META customer \nFormat: This session is ZOOM \nSIS Specific: Yes (StudentInformation)\, but the training may be beneficial to customers who use a different SIS
URL:https://www.metasolutions.net/event/day-zoom-fy26-pb-graduate-reporting-checklist-training/
LOCATION:Virtual Webinar
CATEGORIES:Departments,EMIS
END:VEVENT
BEGIN:VEVENT
DTSTART;TZID=America/New_York:20260422T130000
DTEND;TZID=America/New_York:20260422T150000
DTSTAMP:20260422T041406
CREATED:20260306T184929Z
LAST-MODIFIED:20260306T184929Z
UID:20001068-1776862800-1776870000@www.metasolutions.net
SUMMARY:COL EMIS Open Lab PM ZOOM
DESCRIPTION:EMIS Open Labs hosted by Columbus EMIS staff are informal sessions for you to ask questions and obtain help with data\, reports\, collections related to EMIS.\n\nThere is no requirement to register. We will help with questions and issues related to your EMIS data.\n\nZoom link for the session will be emailed the afternoon before the day of the open lab.
URL:https://www.metasolutions.net/event/col-emis-open-lab-pm-zoom-2/
LOCATION:Virtual Webinar
CATEGORIES:EMIS
END:VEVENT
END:VCALENDAR