BEGIN:VCALENDAR
VERSION:2.0
PRODID:-//META Solutions - ECPv6.15.20//NONSGML v1.0//EN
CALSCALE:GREGORIAN
METHOD:PUBLISH
X-WR-CALNAME:META Solutions
X-ORIGINAL-URL:https://www.metasolutions.net
X-WR-CALDESC:Events for META Solutions
REFRESH-INTERVAL;VALUE=DURATION:PT1H
X-Robots-Tag:noindex
X-PUBLISHED-TTL:PT1H
BEGIN:VTIMEZONE
TZID:America/New_York
BEGIN:DAYLIGHT
TZOFFSETFROM:-0500
TZOFFSETTO:-0400
TZNAME:EDT
DTSTART:20250309T070000
END:DAYLIGHT
BEGIN:STANDARD
TZOFFSETFROM:-0400
TZOFFSETTO:-0500
TZNAME:EST
DTSTART:20251102T060000
END:STANDARD
BEGIN:DAYLIGHT
TZOFFSETFROM:-0500
TZOFFSETTO:-0400
TZNAME:EDT
DTSTART:20260308T070000
END:DAYLIGHT
BEGIN:STANDARD
TZOFFSETFROM:-0400
TZOFFSETTO:-0500
TZNAME:EST
DTSTART:20261101T060000
END:STANDARD
BEGIN:DAYLIGHT
TZOFFSETFROM:-0500
TZOFFSETTO:-0400
TZNAME:EDT
DTSTART:20270314T070000
END:DAYLIGHT
BEGIN:STANDARD
TZOFFSETFROM:-0400
TZOFFSETTO:-0500
TZNAME:EST
DTSTART:20271107T060000
END:STANDARD
END:VTIMEZONE
BEGIN:VEVENT
DTSTART;TZID=America/New_York:20260423T090000
DTEND;TZID=America/New_York:20260423T110000
DTSTAMP:20260423T044216
CREATED:20250715T152042Z
LAST-MODIFIED:20260422T140506Z
UID:20000424-1776934800-1776942000@www.metasolutions.net
SUMMARY:PB Dayton: Scheduling Workshop
DESCRIPTION:Please bring necessary information with you for this workshop.
URL:https://www.metasolutions.net/event/pb-dayton-scheduling-workshop-2/
LOCATION:META Dayton\, 225 Linwood Street\, Dayton\, OH\, 45405\, United States
CATEGORIES:Student Services - ProgressBook
END:VEVENT
BEGIN:VEVENT
DTSTART;TZID=America/New_York:20260423T090000
DTEND;TZID=America/New_York:20260423T150000
DTSTAMP:20260423T044216
CREATED:20251230T145027Z
LAST-MODIFIED:20251230T145027Z
UID:20000979-1776934800-1776956400@www.metasolutions.net
SUMMARY:PowerScheduler - In Person Workday - Columbus
DESCRIPTION:The Scheduling Workday is designed for Schedulers to come and work at their own pace\, with assistance from the META staff.
URL:https://www.metasolutions.net/event/powerscheduler-in-person-workday-columbus-8/
LOCATION:META Solutions – Columbus\, 2100 Citygate Drive\, #suite b\, Columbus\, OH\, 43219\, United States
CATEGORIES:Student Services - PowerSchool
END:VEVENT
END:VCALENDAR