BEGIN:VCALENDAR
VERSION:2.0
PRODID:-//META Solutions - ECPv6.15.20//NONSGML v1.0//EN
CALSCALE:GREGORIAN
METHOD:PUBLISH
X-WR-CALNAME:META Solutions
X-ORIGINAL-URL:https://www.metasolutions.net
X-WR-CALDESC:Events for META Solutions
REFRESH-INTERVAL;VALUE=DURATION:PT1H
X-Robots-Tag:noindex
X-PUBLISHED-TTL:PT1H
BEGIN:VTIMEZONE
TZID:America/New_York
BEGIN:DAYLIGHT
TZOFFSETFROM:-0500
TZOFFSETTO:-0400
TZNAME:EDT
DTSTART:20250309T070000
END:DAYLIGHT
BEGIN:STANDARD
TZOFFSETFROM:-0400
TZOFFSETTO:-0500
TZNAME:EST
DTSTART:20251102T060000
END:STANDARD
BEGIN:DAYLIGHT
TZOFFSETFROM:-0500
TZOFFSETTO:-0400
TZNAME:EDT
DTSTART:20260308T070000
END:DAYLIGHT
BEGIN:STANDARD
TZOFFSETFROM:-0400
TZOFFSETTO:-0500
TZNAME:EST
DTSTART:20261101T060000
END:STANDARD
BEGIN:DAYLIGHT
TZOFFSETFROM:-0500
TZOFFSETTO:-0400
TZNAME:EDT
DTSTART:20270314T070000
END:DAYLIGHT
BEGIN:STANDARD
TZOFFSETFROM:-0400
TZOFFSETTO:-0500
TZNAME:EST
DTSTART:20271107T060000
END:STANDARD
END:VTIMEZONE
BEGIN:VEVENT
DTSTART;TZID=America/New_York:20260507T120000
DTEND;TZID=America/New_York:20260507T150000
DTSTAMP:20260423T070049
CREATED:20260416T143331Z
LAST-MODIFIED:20260416T160335Z
UID:20001119-1778155200-1778166000@www.metasolutions.net
SUMMARY:Developing Your All-Star Team - META PD Series
DESCRIPTION:Please join us for the first of three Professional Development sessions for Business Managers focused on developing your All-Star team of support.  \nIn the business of educating students\, it is your job to ensure the educational environment is not only operational but optimal. The scope of responsibilities is enormous\, which is why it’s so important to have a roster of trusted experts and advisors in your proverbial rolodex to turn to when necessary. That’s where this three-part professional development series is helpful. META is pleased to be presenting a PD series for business/operations managers and anyone with equivalent responsibilities to help you find your all-star team.   \nYou are your school’s expert. Who are your experts? Let us help you find them. \nThe first session is May 7 at META Columbus and will focus on finances and energy.\nThe sessions are free to attend and lunch is provided.\nCertificates for PD will be distributed. \nSpace is limited – register today! \nAgenda:\n12:00 – Lunch and Networking\n12:45 – Finances/Capital Plans with Dan Schall of Bradley Payne\n1:30 – Energy with Jon Saxton of Veregy\n2:30 – Roundtable discussions\n3:00 – Certificates handed out
URL:https://www.metasolutions.net/event/developing-your-all-star-team-meta-pd-series/
LOCATION:META Solutions – Columbus\, 2100 Citygate Drive\, #suite b\, Columbus\, OH\, 43219\, United States
CATEGORIES:General
ATTACH;FMTTYPE=image/jpeg:https://www.metasolutions.net/wp-content/uploads/2026/04/PDeventimage-1.jpg
END:VEVENT
END:VCALENDAR