BEGIN:VCALENDAR
VERSION:2.0
PRODID:-//META Solutions - ECPv6.15.20//NONSGML v1.0//EN
CALSCALE:GREGORIAN
METHOD:PUBLISH
X-WR-CALNAME:META Solutions
X-ORIGINAL-URL:https://www.metasolutions.net
X-WR-CALDESC:Events for META Solutions
REFRESH-INTERVAL;VALUE=DURATION:PT1H
X-Robots-Tag:noindex
X-PUBLISHED-TTL:PT1H
BEGIN:VTIMEZONE
TZID:America/New_York
BEGIN:DAYLIGHT
TZOFFSETFROM:-0500
TZOFFSETTO:-0400
TZNAME:EDT
DTSTART:20250309T070000
END:DAYLIGHT
BEGIN:STANDARD
TZOFFSETFROM:-0400
TZOFFSETTO:-0500
TZNAME:EST
DTSTART:20251102T060000
END:STANDARD
BEGIN:DAYLIGHT
TZOFFSETFROM:-0500
TZOFFSETTO:-0400
TZNAME:EDT
DTSTART:20260308T070000
END:DAYLIGHT
BEGIN:STANDARD
TZOFFSETFROM:-0400
TZOFFSETTO:-0500
TZNAME:EST
DTSTART:20261101T060000
END:STANDARD
BEGIN:DAYLIGHT
TZOFFSETFROM:-0500
TZOFFSETTO:-0400
TZNAME:EDT
DTSTART:20270314T070000
END:DAYLIGHT
BEGIN:STANDARD
TZOFFSETFROM:-0400
TZOFFSETTO:-0500
TZNAME:EST
DTSTART:20271107T060000
END:STANDARD
END:VTIMEZONE
BEGIN:VEVENT
DTSTART;TZID=America/New_York:20260211T090000
DTEND;TZID=America/New_York:20260211T113000
DTSTAMP:20260419T200955
CREATED:20260113T193508Z
LAST-MODIFIED:20260210T220538Z
UID:20000998-1770800400-1770809400@www.metasolutions.net
SUMMARY:ATH- IC User Group Meeting and HB96 Insight
DESCRIPTION:This training will cover new features\, corrections and OH specific details from IC updates 2535-2603. Along with details regarding HB96
URL:https://www.metasolutions.net/event/ath-ic-user-group-meeting-and-hb96-insight/
LOCATION:META Solutions – Athens\, 221 Columbus Road\, Athens\, OH\, 45701\, United States
CATEGORIES:Student Services - Infinite Campus
ATTACH;FMTTYPE=image/jpeg:https://www.metasolutions.net/wp-content/uploads/2026/01/7508004e26bc7423dfd1f338ffa0e8f6-I9Nwuw.tmp_.jpg
END:VEVENT
BEGIN:VEVENT
DTSTART;TZID=America/New_York:20260211T123000
DTEND;TZID=America/New_York:20260211T150000
DTSTAMP:20260419T200955
CREATED:20260113T193510Z
LAST-MODIFIED:20260210T220539Z
UID:20000999-1770813000-1770822000@www.metasolutions.net
SUMMARY:IC Scheduling Pt.1 Training
DESCRIPTION:Infinite Campus SIS – Schedule preparation for 26-27 SY\n\n\nSteps to prepare for 25-26 scheduling in Infinite Campus SIS
URL:https://www.metasolutions.net/event/ic-scheduling-pt-1-training/
LOCATION:META Solutions – Athens\, 221 Columbus Road\, Athens\, OH\, 45701\, United States
CATEGORIES:Student Services - Infinite Campus
ATTACH;FMTTYPE=image/jpeg:https://www.metasolutions.net/wp-content/uploads/2026/01/5c3406a66a38a8718c119422f01866b2-ZxSYKB.tmp_.jpg
END:VEVENT
END:VCALENDAR