BEGIN:VCALENDAR
VERSION:2.0
PRODID:-//META Solutions - ECPv6.15.20//NONSGML v1.0//EN
CALSCALE:GREGORIAN
METHOD:PUBLISH
X-WR-CALNAME:META Solutions
X-ORIGINAL-URL:https://www.metasolutions.net
X-WR-CALDESC:Events for META Solutions
REFRESH-INTERVAL;VALUE=DURATION:PT1H
X-Robots-Tag:noindex
X-PUBLISHED-TTL:PT1H
BEGIN:VTIMEZONE
TZID:America/New_York
BEGIN:DAYLIGHT
TZOFFSETFROM:-0500
TZOFFSETTO:-0400
TZNAME:EDT
DTSTART:20250309T070000
END:DAYLIGHT
BEGIN:STANDARD
TZOFFSETFROM:-0400
TZOFFSETTO:-0500
TZNAME:EST
DTSTART:20251102T060000
END:STANDARD
BEGIN:DAYLIGHT
TZOFFSETFROM:-0500
TZOFFSETTO:-0400
TZNAME:EDT
DTSTART:20260308T070000
END:DAYLIGHT
BEGIN:STANDARD
TZOFFSETFROM:-0400
TZOFFSETTO:-0500
TZNAME:EST
DTSTART:20261101T060000
END:STANDARD
BEGIN:DAYLIGHT
TZOFFSETFROM:-0500
TZOFFSETTO:-0400
TZNAME:EDT
DTSTART:20270314T070000
END:DAYLIGHT
BEGIN:STANDARD
TZOFFSETFROM:-0400
TZOFFSETTO:-0500
TZNAME:EST
DTSTART:20271107T060000
END:STANDARD
END:VTIMEZONE
BEGIN:VEVENT
DTSTART;TZID=America/New_York:20260210T130000
DTEND;TZID=America/New_York:20260210T150000
DTSTAMP:20260422T230957
CREATED:20250715T145147Z
LAST-MODIFIED:20260210T080512Z
UID:20000342-1770728400-1770735600@www.metasolutions.net
SUMMARY:META EMIS PowerSchool Help Session-Online
DESCRIPTION:Join us for EMIS PowerSchool assistance!!\n\n\nEMIS PowerSchool Help Session are informal work sessions for you to get help with anything related to EMIS reporting. \n\nPosted by: META\nIntended audience: META PowerSchool Users\n\n\nFormat: Online only\n\nSIS Specific: Yes\, PowerSchool
URL:https://www.metasolutions.net/event/meta-emis-powerschool-help-session-online-12/
CATEGORIES:EMIS
END:VEVENT
BEGIN:VEVENT
DTSTART;TZID=America/New_York:20260210T090000
DTEND;TZID=America/New_York:20260210T150000
DTSTAMP:20260422T230957
CREATED:20251212T162907Z
LAST-MODIFIED:20260203T190652Z
UID:20000925-1770714000-1770735600@www.metasolutions.net
SUMMARY:PowerScheduler-Virtual Workday
DESCRIPTION:Individual hour long workday sessions by appointment.
URL:https://www.metasolutions.net/event/powerscheduler-virtual-workday-5/
LOCATION:Virtual Webinar
CATEGORIES:Student Services - PowerSchool
END:VEVENT
BEGIN:VEVENT
DTSTART;TZID=America/New_York:20260210T090000
DTEND;TZID=America/New_York:20260210T110000
DTSTAMP:20260422T230957
CREATED:20250715T152006Z
LAST-MODIFIED:20260208T185012Z
UID:20000401-1770714000-1770721200@www.metasolutions.net
SUMMARY:CBUS: Help Session  for ProgressBook
DESCRIPTION:CBUS: PB Help Session\n\n\nThis is a H﻿elp Session for ProgressBook\, formerly known as Open Lab from 8:30-11:30. At least one member of the ProgressBook Team will be in the Columbus Training room on Thursday to answer questions related to ProgressBook.
URL:https://www.metasolutions.net/event/cbus-help-session-for-progressbook-7/
LOCATION:META Solutions – Columbus\, 2100 Citygate Drive\, Columbus\, OH\, 43219\, United States
CATEGORIES:Student Services - ProgressBook
END:VEVENT
BEGIN:VEVENT
DTSTART;TZID=America/New_York:20260205T090000
DTEND;TZID=America/New_York:20260205T150000
DTSTAMP:20260422T230957
CREATED:20251223T144948Z
LAST-MODIFIED:20251223T144948Z
UID:20000961-1770282000-1770303600@www.metasolutions.net
SUMMARY:PowerScheduler - In Person Workday - Marion
DESCRIPTION:The Scheduling Workday is designed for Schedulers to come and work at their own pace\, with assistance from the META staff.
URL:https://www.metasolutions.net/event/powerscheduler-in-person-workday-marion-2/
LOCATION:META Solutions – Marion\, 100 Executive Drive\, Marion\, OH\, 43302\, United States
CATEGORIES:Student Services - PowerSchool
END:VEVENT
BEGIN:VEVENT
DTSTART;TZID=America/New_York:20260204T130000
DTEND;TZID=America/New_York:20260204T150000
DTSTAMP:20260422T230957
CREATED:20260126T003612Z
LAST-MODIFIED:20260126T003612Z
UID:20001013-1770210000-1770217200@www.metasolutions.net
SUMMARY:ELY - EMIS PowerSchool Help Session – On-Line
DESCRIPTION:Join us for EMIS PowerSchool assistance! \nEMIS PowerSchool Help Sessions are informal work sessions for you to get help with anything related to EMIS reporting.  Join us for EMIS PowerSchool assistance! \n\nHosted by META-Marion\n\n\nIntended Audience – META PowerSchool Users\n\n\nFormat – On-Line Only\n\n\nSIS Specific – Yes
URL:https://www.metasolutions.net/event/ely-emis-powerschool-help-session-on-line-7/
CATEGORIES:EMIS
END:VEVENT
BEGIN:VEVENT
DTSTART;TZID=America/New_York:20260204T090000
DTEND;TZID=America/New_York:20260204T103000
DTSTAMP:20260422T230957
CREATED:20260126T005541Z
LAST-MODIFIED:20260126T005541Z
UID:20001015-1770195600-1770201000@www.metasolutions.net
SUMMARY:PS EMIS Monthly Meeting (PSEMM)- February FY26 On-Line
DESCRIPTION:The PS EMIS Monthly Meetings are on-line sessions held during the FY26 school year.  Each session highlights specific areas that districts should review or focus on during the month with beneficial information. \nThe sessions will be recorded and posted to the META website along with the presentation handouts.  To locate\, go to the metasolutions.net\, Member Resources\, EMIS Links & Documents\, META EMIS Secure Documents\, PS EMIS Monthly Meetings folder.
URL:https://www.metasolutions.net/event/ps-emis-monthly-meeting-psemm-february-fy26-on-line/
CATEGORIES:EMIS
ATTACH;FMTTYPE=image/png:https://www.metasolutions.net/wp-content/uploads/2025/10/PSEMM-Cover.png
END:VEVENT
BEGIN:VEVENT
DTSTART;TZID=America/New_York:20260203T090000
DTEND;TZID=America/New_York:20260203T150000
DTSTAMP:20260422T230957
CREATED:20260126T002713Z
LAST-MODIFIED:20260126T003113Z
UID:20001011-1770109200-1770130800@www.metasolutions.net
SUMMARY:MAR - EMIS PowerSchool Help Session – On-Site
DESCRIPTION:Join us for EMIS PowerSchool assistance! \nEMIS PowerSchool Help Sessions are informal work sessions for you to get help with anything related to EMIS reporting.  Join us for EMIS PowerSchool assistance! \n\nHosted by META-Marion\n\n\nIntended Audience – META PowerSchool Users\n\n\nFormat – On-Site Only\n\n\nSIS Specific – Yes
URL:https://www.metasolutions.net/event/mar-emis-powerschool-help-session-on-site-12/
LOCATION:META Solutions – Marion\, 100 Executive Drive\, Marion\, OH\, 43302\, United States
CATEGORIES:EMIS
END:VEVENT
BEGIN:VEVENT
DTSTART;TZID=America/New_York:20260203T090000
DTEND;TZID=America/New_York:20260203T150000
DTSTAMP:20260422T230957
CREATED:20251212T162318Z
LAST-MODIFIED:20260202T143202Z
UID:20000924-1770109200-1770130800@www.metasolutions.net
SUMMARY:PowerScheduler-Virtual Workday
DESCRIPTION:Individual hour long workday sessions by appointment.
URL:https://www.metasolutions.net/event/powerscheduler-virtual-workday-4/
LOCATION:Virtual Webinar
CATEGORIES:Student Services - PowerSchool
END:VEVENT
BEGIN:VEVENT
DTSTART;TZID=America/New_York:20260203T090000
DTEND;TZID=America/New_York:20260203T100000
DTSTAMP:20260422T230957
CREATED:20250910T120644Z
LAST-MODIFIED:20250910T124401Z
UID:20000789-1770109200-1770112800@www.metasolutions.net
SUMMARY:DAY- HYBRID-ZOOM-EMIS Weekly Workshop
DESCRIPTION:This is a hybrid meeting that will be both in person and via ZOOM meeting. \n  \nREGISTRATION IS REQUIRED FOR THE IN-PERSON VERSION OF THIS EVENT. \nEMIS Weekly Workshops are typically held the first and third Tuesday of the month from 9:00-10 AM. \nThis will be a ZOOM version and an In Person version at the same time. Registration for the ZOOM Meeting is not required. The link for the EMIS Weekly Workshop will be sent to all META Dayton EMIS Coordinators the Monday before the workshop. Remember\, you can join us during the ZOOM meeting to get answers to any questions or concerns you may have\, or just listen to questions or concerns that others have. Additionally\, you can join the meeting for the entire time- or any part of the time. \nPlease let me know if you have any questions about the online EMIS Weekly Workshops (jeanmayer@metasolutions.net).
URL:https://www.metasolutions.net/event/day-hybrid-zoom-emis-weekly-workshop-33/
LOCATION:Virtual Webinar
CATEGORIES:EMIS
END:VEVENT
BEGIN:VEVENT
DTSTART;TZID=America/New_York:20260129T090000
DTEND;TZID=America/New_York:20260129T150000
DTSTAMP:20260422T230957
CREATED:20260128T173104Z
LAST-MODIFIED:20260128T174823Z
UID:20001018-1769677200-1769698800@www.metasolutions.net
SUMMARY:PowerScheduler-Virtual Workday
DESCRIPTION:Individual hour long workday sessions by appointment.
URL:https://www.metasolutions.net/event/powerscheduler-virtual-workday-23/
LOCATION:Virtual Webinar
CATEGORIES:Student Services - PowerSchool
END:VEVENT
BEGIN:VEVENT
DTSTART;TZID=America/New_York:20260129T090000
DTEND;TZID=America/New_York:20260129T150000
DTSTAMP:20260422T230957
CREATED:20251223T143328Z
LAST-MODIFIED:20260128T190331Z
UID:20000958-1769677200-1769698800@www.metasolutions.net
SUMMARY:PowerScheduler - In Person Workday - Columbus
DESCRIPTION:The Scheduling Workday is designed for Schedulers to come and work at their own pace\, with assistance from the META staff.
URL:https://www.metasolutions.net/event/powerscheduler-in-person-workday-columbus-2/
LOCATION:META Solutions – Columbus\, 2100 Citygate Drive\, Columbus\, OH\, 43219\, United States
CATEGORIES:Student Services - PowerSchool
END:VEVENT
BEGIN:VEVENT
DTSTART;TZID=America/New_York:20260128T090000
DTEND;TZID=America/New_York:20260128T120000
DTSTAMP:20260422T230957
CREATED:20250715T145240Z
LAST-MODIFIED:20260126T144255Z
UID:20000364-1769590800-1769601600@www.metasolutions.net
SUMMARY:POLE – Piketon Open Lab EMIS
DESCRIPTION:Piketon Open Lab EMIS – In Person ONLY – registration is required\n\n\nPlease join me during an in person session to get answers to any questions or concerns you may have or just listen to questions or concerns that others have. You can just come and work in the lab without receiving interuptions from others in your district. \nThis get together is very informal. This is not a training per se but a help session. Topics are what you need assistance with in your EMIS life as of that day. \nPlease let me know if you have any questions about the Piketon Open Lab EMIS \nCindy
URL:https://www.metasolutions.net/event/pole-piketon-open-lab-emis-4/
LOCATION:META Solutions – Piketon\, 175 Beaver Creek Road\, Piketon\, OH\, 45661\, United States
CATEGORIES:EMIS
ATTACH;FMTTYPE=image/jpeg:https://www.metasolutions.net/wp-content/uploads/2025/07/d5961eb8bb29c12258534467b322b5a1-mOGWtr.tmp_.jpg
END:VEVENT
BEGIN:VEVENT
DTSTART;TZID=America/New_York:20260127T130000
DTEND;TZID=America/New_York:20260127T150000
DTSTAMP:20260422T230957
CREATED:20250715T145147Z
LAST-MODIFIED:20260127T070511Z
UID:20000341-1769518800-1769526000@www.metasolutions.net
SUMMARY:META EMIS PowerSchool Help Session-Online
DESCRIPTION:Join us for EMIS PowerSchool assistance!!\n\n\nEMIS PowerSchool Help Session are informal work sessions for you to get help with anything related to EMIS reporting. \n\nPosted by: META\nIntended audience: META PowerSchool Users\n\n\nFormat: Online only\n\nSIS Specific: Yes\, PowerSchool
URL:https://www.metasolutions.net/event/meta-emis-powerschool-help-session-online-11/
CATEGORIES:EMIS
END:VEVENT
BEGIN:VEVENT
DTSTART;TZID=America/New_York:20260127T100000
DTEND;TZID=America/New_York:20260127T113000
DTSTAMP:20260422T230957
CREATED:20251212T180659Z
LAST-MODIFIED:20251212T182253Z
UID:20000928-1769508000-1769513400@www.metasolutions.net
SUMMARY:PB EMIS Monthly Update (EMU) January FY26*
DESCRIPTION:The PB EMIS Monthly Update is a webinar series for the FY26 school year. Each session highlights specific areas that districts should review or focus on during that month.\nWhile the sessions are tailored to the StudentInformation/DASL software\, EMIS Coordinators using different SIS software may find the information beneficial.\nEach session will be recorded and posted to the META website along with the presentation handouts. To find them\, go to metasolutions.net\, member resources\, EMIS\, links & documents\, META EMIS secure documents\, PB EMIS monthly updates. There you will find our entire EMU presentation history.\nREGISTRATION IS REQUIRED for this online event!
URL:https://www.metasolutions.net/event/pb-emis-monthly-update-emu-january-fy26-2/
LOCATION:Virtual Webinar
CATEGORIES:EMIS
END:VEVENT
BEGIN:VEVENT
DTSTART;TZID=America/New_York:20260127T090000
DTEND;TZID=America/New_York:20260127T150000
DTSTAMP:20260422T230957
CREATED:20251212T155429Z
LAST-MODIFIED:20251212T155644Z
UID:20000923-1769504400-1769526000@www.metasolutions.net
SUMMARY:PowerScheduler-Virtual Workday
DESCRIPTION:Individual hour long workday sessions by appointment.
URL:https://www.metasolutions.net/event/powerscheduler-virtual-workday-3/
LOCATION:Virtual Webinar
CATEGORIES:Student Services - PowerSchool
END:VEVENT
END:VCALENDAR