BEGIN:VCALENDAR
VERSION:2.0
PRODID:-//META Solutions - ECPv6.15.20//NONSGML v1.0//EN
CALSCALE:GREGORIAN
METHOD:PUBLISH
X-ORIGINAL-URL:https://www.metasolutions.net
X-WR-CALDESC:Events for META Solutions
REFRESH-INTERVAL;VALUE=DURATION:PT1H
X-Robots-Tag:noindex
X-PUBLISHED-TTL:PT1H
BEGIN:VTIMEZONE
TZID:America/New_York
BEGIN:DAYLIGHT
TZOFFSETFROM:-0500
TZOFFSETTO:-0400
TZNAME:EDT
DTSTART:20250309T070000
END:DAYLIGHT
BEGIN:STANDARD
TZOFFSETFROM:-0400
TZOFFSETTO:-0500
TZNAME:EST
DTSTART:20251102T060000
END:STANDARD
BEGIN:DAYLIGHT
TZOFFSETFROM:-0500
TZOFFSETTO:-0400
TZNAME:EDT
DTSTART:20260308T070000
END:DAYLIGHT
BEGIN:STANDARD
TZOFFSETFROM:-0400
TZOFFSETTO:-0500
TZNAME:EST
DTSTART:20261101T060000
END:STANDARD
BEGIN:DAYLIGHT
TZOFFSETFROM:-0500
TZOFFSETTO:-0400
TZNAME:EDT
DTSTART:20270314T070000
END:DAYLIGHT
BEGIN:STANDARD
TZOFFSETFROM:-0400
TZOFFSETTO:-0500
TZNAME:EST
DTSTART:20271107T060000
END:STANDARD
END:VTIMEZONE
BEGIN:VEVENT
DTSTART;TZID=America/New_York:20260707T090000
DTEND;TZID=America/New_York:20260707T100000
DTSTAMP:20260419T115618
CREATED:20250910T121308Z
LAST-MODIFIED:20250910T124737Z
UID:20000793-1783414800-1783418400@www.metasolutions.net
SUMMARY:DAY- HYBRID-ZOOM-EMIS Weekly Workshop
DESCRIPTION:This is a hybrid meeting that will be both in person and via ZOOM meeting. \n  \nREGISTRATION IS REQUIRED FOR THE IN-PERSON VERSION OF THIS EVENT. \nEMIS Weekly Workshops are typically held the first and third Tuesday of the month from 9:00-10 AM. \nThis will be a ZOOM version and an In Person version at the same time. Registration for the ZOOM Meeting is not required. The link for the EMIS Weekly Workshop will be sent to all META Dayton EMIS Coordinators the Monday before the workshop. Remember\, you can join us during the ZOOM meeting to get answers to any questions or concerns you may have\, or just listen to questions or concerns that others have. Additionally\, you can join the meeting for the entire time- or any part of the time. \nPlease let me know if you have any questions about the online EMIS Weekly Workshops (jeanmayer@metasolutions.net).
URL:https://www.metasolutions.net/event/day-hybrid-zoom-emis-weekly-workshop-37/
LOCATION:Virtual Webinar
CATEGORIES:EMIS
END:VEVENT
BEGIN:VEVENT
DTSTART;TZID=America/New_York:20260707T130000
DTEND;TZID=America/New_York:20260707T150000
DTSTAMP:20260419T115618
CREATED:20250715T145151Z
LAST-MODIFIED:20260419T070512Z
UID:20000352-1783429200-1783436400@www.metasolutions.net
SUMMARY:META EMIS PowerSchool Help Session-Online
DESCRIPTION:Join us for EMIS PowerSchool assistance!!\n\n\nEMIS PowerSchool Help Session are informal work sessions for you to get help with anything related to EMIS reporting. \n\nPosted by: META\nIntended audience: META PowerSchool Users\n\n\nFormat: Online only\n\nSIS Specific: Yes\, PowerSchool
URL:https://www.metasolutions.net/event/meta-emis-powerschool-help-session-online-22/
LOCATION:OH
CATEGORIES:EMIS
END:VEVENT
BEGIN:VEVENT
DTSTART;TZID=America/New_York:20260721T090000
DTEND;TZID=America/New_York:20260721T100000
DTSTAMP:20260419T115618
CREATED:20250910T121743Z
LAST-MODIFIED:20250910T124805Z
UID:20000799-1784624400-1784628000@www.metasolutions.net
SUMMARY:DAY- HYBRID-ZOOM-EMIS Weekly Workshop
DESCRIPTION:This is a hybrid meeting that will be both in person and via ZOOM meeting. \n  \nREGISTRATION IS REQUIRED FOR THE IN-PERSON VERSION OF THIS EVENT. \nEMIS Weekly Workshops are typically held the first and third Tuesday of the month from 9:00-10 AM. \nThis will be a ZOOM version and an In Person version at the same time. Registration for the ZOOM Meeting is not required. The link for the EMIS Weekly Workshop will be sent to all META Dayton EMIS Coordinators the Monday before the workshop. Remember\, you can join us during the ZOOM meeting to get answers to any questions or concerns you may have\, or just listen to questions or concerns that others have. Additionally\, you can join the meeting for the entire time- or any part of the time. \nPlease let me know if you have any questions about the online EMIS Weekly Workshops (jeanmayer@metasolutions.net).
URL:https://www.metasolutions.net/event/day-hybrid-zoom-emis-weekly-workshop-42/
LOCATION:Virtual Webinar
CATEGORIES:EMIS
END:VEVENT
BEGIN:VEVENT
DTSTART;TZID=America/New_York:20260728T100000
DTEND;TZID=America/New_York:20260728T113000
DTSTAMP:20260419T115618
CREATED:20260313T134711Z
LAST-MODIFIED:20260313T134711Z
UID:20001083-1785232800-1785238200@www.metasolutions.net
SUMMARY:PB EMIS Monthly Update (EMU) July FY27*
DESCRIPTION:The PB EMIS Monthly Update (EMU) is a webinar series for the FY27 school year. Each session highlights specific areas that districts should currently review or focus on. \nWhile the sessions are tailored to the StudentInformation/DASL software\, EMIS Coordinators using different SIS software may find the information beneficial. \nLink to the zoom as well as the handouts will be sent out after 1pm the day before the scheduled zoom. \nEach session will be recorded and posted to the META website along with the presentation handouts. \nTo find the recording/documents\, go to metasolutions.net\, member resources\, EMIS\, links & documents\, META EMIS secure documents\, PB EMIS monthly updates. There you will find our entire EMU presentation history. \nREGISTRATION IS REQUIRED for this online event!
URL:https://www.metasolutions.net/event/pb-emis-monthly-update-emu-july-fy27/
LOCATION:Virtual Webinar
CATEGORIES:EMIS
END:VEVENT
END:VCALENDAR