BEGIN:VCALENDAR
VERSION:2.0
PRODID:-//META Solutions - ECPv6.15.20//NONSGML v1.0//EN
CALSCALE:GREGORIAN
METHOD:PUBLISH
X-WR-CALNAME:META Solutions
X-ORIGINAL-URL:https://www.metasolutions.net
X-WR-CALDESC:Events for META Solutions
REFRESH-INTERVAL;VALUE=DURATION:PT1H
X-Robots-Tag:noindex
X-PUBLISHED-TTL:PT1H
BEGIN:VTIMEZONE
TZID:America/New_York
BEGIN:DAYLIGHT
TZOFFSETFROM:-0500
TZOFFSETTO:-0400
TZNAME:EDT
DTSTART:20250309T070000
END:DAYLIGHT
BEGIN:STANDARD
TZOFFSETFROM:-0400
TZOFFSETTO:-0500
TZNAME:EST
DTSTART:20251102T060000
END:STANDARD
BEGIN:DAYLIGHT
TZOFFSETFROM:-0500
TZOFFSETTO:-0400
TZNAME:EDT
DTSTART:20260308T070000
END:DAYLIGHT
BEGIN:STANDARD
TZOFFSETFROM:-0400
TZOFFSETTO:-0500
TZNAME:EST
DTSTART:20261101T060000
END:STANDARD
BEGIN:DAYLIGHT
TZOFFSETFROM:-0500
TZOFFSETTO:-0400
TZNAME:EDT
DTSTART:20270314T070000
END:DAYLIGHT
BEGIN:STANDARD
TZOFFSETFROM:-0400
TZOFFSETTO:-0500
TZNAME:EST
DTSTART:20271107T060000
END:STANDARD
END:VTIMEZONE
BEGIN:VEVENT
DTSTART;TZID=America/New_York:20260803T100000
DTEND;TZID=America/New_York:20260803T143000
DTSTAMP:20260419T134045
CREATED:20260415T193410Z
LAST-MODIFIED:20260415T193410Z
UID:20001118-1785751200-1785767400@www.metasolutions.net
SUMMARY:PowerSchool - Attendance Workday
DESCRIPTION:This is an Attendance Workday. \nYou will be able to work on things like Attendance Codes\, Conversions\, Calendars\, Cycle Days and Bell Schedules.  This will be a good time to make sure everything is set up before the start of your new school year!
URL:https://www.metasolutions.net/event/powerschool-attendance-workday/
LOCATION:2100 Citygate Dr\, 2100 Citygate Drive\, Columbus\, OH\, 43218\, United States
CATEGORIES:Student Services - PowerSchool
ORGANIZER;CN="PowerSchool":MAILTO:ps.support@metasolutions.net
END:VEVENT
BEGIN:VEVENT
DTSTART;TZID=America/New_York:20260804T090000
DTEND;TZID=America/New_York:20260804T100000
DTSTAMP:20260419T134046
CREATED:20250910T122220Z
LAST-MODIFIED:20250910T123614Z
UID:20000800-1785834000-1785837600@www.metasolutions.net
SUMMARY:DAY- HYBRID-ZOOM-EMIS Weekly Workshop
DESCRIPTION:This is a hybrid meeting that will be both in person and via ZOOM meeting. \n  \nREGISTRATION IS REQUIRED FOR THE IN-PERSON VERSION OF THIS EVENT. \nEMIS Weekly Workshops are typically held the first and third Tuesday of the month from 9:00-10 AM. \nThis will be a ZOOM version and an In Person version at the same time. Registration for the ZOOM Meeting is not required. The link for the EMIS Weekly Workshop will be sent to all META Dayton EMIS Coordinators the Monday before the workshop. Remember\, you can join us during the ZOOM meeting to get answers to any questions or concerns you may have\, or just listen to questions or concerns that others have. Additionally\, you can join the meeting for the entire time- or any part of the time. \nPlease let me know if you have any questions about the online EMIS Weekly Workshops (jeanmayer@metasolutions.net).
URL:https://www.metasolutions.net/event/day-hybrid-zoom-emis-weekly-workshop-44/
LOCATION:Virtual Webinar
CATEGORIES:EMIS
END:VEVENT
BEGIN:VEVENT
DTSTART;TZID=America/New_York:20260810T090000
DTEND;TZID=America/New_York:20260810T150000
DTSTAMP:20260419T134046
CREATED:20260415T082011Z
LAST-MODIFIED:20260419T082016Z
UID:20001115-1786352400-1786374000@www.metasolutions.net
SUMMARY:META-Columbus New Library User PD
DESCRIPTION:In-person training for new library staff or those needing a refresher on library software\, circulation\, cataloging\, and reports.\n\n\nJoin us for the New Library User/Refresher session. This in-person session is designed to support individuals new to working in school libraries\, as well as those seeking a refresher. \nThis PD will help you get started with:   – Logging in and using your library system  – Accessing the Library Services Handbook  – Circulating materials  – Introduction to cataloging  – Basic reports.  \nPlease bring a scanner if you have one available.
URL:https://www.metasolutions.net/event/meta-columbus-new-library-user-pd/
LOCATION:META Solutions – Columbus\, 2100 Citygate Drive\, #suite b\, Columbus\, OH\, 43219\, United States
CATEGORIES:Library Services
END:VEVENT
BEGIN:VEVENT
DTSTART;TZID=America/New_York:20260818T090000
DTEND;TZID=America/New_York:20260818T100000
DTSTAMP:20260419T134046
CREATED:20250910T122247Z
LAST-MODIFIED:20250910T124011Z
UID:20000801-1787043600-1787047200@www.metasolutions.net
SUMMARY:DAY- HYBRID-ZOOM-EMIS Weekly Workshop
DESCRIPTION:This is a hybrid meeting that will be both in person and via ZOOM meeting. \n  \nREGISTRATION IS REQUIRED FOR THE IN-PERSON VERSION OF THIS EVENT. \nEMIS Weekly Workshops are typically held the first and third Tuesday of the month from 9:00-10 AM. \nThis will be a ZOOM version and an In Person version at the same time. Registration for the ZOOM Meeting is not required. The link for the EMIS Weekly Workshop will be sent to all META Dayton EMIS Coordinators the Monday before the workshop. Remember\, you can join us during the ZOOM meeting to get answers to any questions or concerns you may have\, or just listen to questions or concerns that others have. Additionally\, you can join the meeting for the entire time- or any part of the time. \nPlease let me know if you have any questions about the online EMIS Weekly Workshops (jeanmayer@metasolutions.net).
URL:https://www.metasolutions.net/event/day-hybrid-zoom-emis-weekly-workshop-45/
LOCATION:Virtual Webinar
CATEGORIES:EMIS
END:VEVENT
BEGIN:VEVENT
DTSTART;TZID=America/New_York:20260818T090000
DTEND;TZID=America/New_York:20260818T150000
DTSTAMP:20260419T134046
CREATED:20260414T205011Z
LAST-MODIFIED:20260419T000512Z
UID:20001113-1787043600-1787065200@www.metasolutions.net
SUMMARY:META-Athens New Library User PD
DESCRIPTION:In-person training for new library staff or those needing a refresher on library software\, circulation\, cataloging\, and reports.\n\n\nJoin us for the New Library User/Refresher session. This in-person session is designed to support individuals new to working in school libraries\, as well as those seeking a refresher. \nThis PD will help you get started with:   – Logging in and using your library system  – Accessing the Library Services Handbook  – Circulating materials  – Introduction to cataloging  – Basic reports.  \nPlease bring a scanner if you have one available.
URL:https://www.metasolutions.net/event/meta-athens-new-library-user-pd/
LOCATION:META Solutions – Athens\, 221 Columbus Road\, Athens\, OH\, 45701\, United States
CATEGORIES:Library Services
END:VEVENT
BEGIN:VEVENT
DTSTART;TZID=America/New_York:20260818T090000
DTEND;TZID=America/New_York:20260818T150000
DTSTAMP:20260419T134046
CREATED:20260415T132012Z
LAST-MODIFIED:20260419T140511Z
UID:20001116-1787043600-1787065200@www.metasolutions.net
SUMMARY:META-Marion New Library User PD
DESCRIPTION:In-person training for new library staff or those needing a refresher on library software\, circulation\, cataloging\, and reports.\n\n\nJoin us for the New Library User/Refresher session. This in-person session is designed to support individuals new to working in school libraries\, as well as those seeking a refresher. \nThis PD will help you get started with:   – Logging in and using your library system  – Accessing the Library Services Handbook  – Circulating materials  – Introduction to cataloging  – Basic reports.  \nPlease bring a scanner if you have one available.
URL:https://www.metasolutions.net/event/meta-marion-new-library-user-pd/
LOCATION:META Solutions – Marion\, 100 Executive Drive\, Marion\, OH\, 43302\, United States
CATEGORIES:Library Services
END:VEVENT
BEGIN:VEVENT
DTSTART;TZID=America/New_York:20260819T090000
DTEND;TZID=America/New_York:20260819T150000
DTSTAMP:20260419T134046
CREATED:20260415T073517Z
LAST-MODIFIED:20260419T073509Z
UID:20001114-1787130000-1787151600@www.metasolutions.net
SUMMARY:META-Dayton New Library User PD Registration
DESCRIPTION:In-person training for new library staff or those needing a refresher on library software\, circulation\, cataloging\, and reports.\n\n\nJoin us for the New Library User/Refresher session. This in-person session is designed to support individuals new to working in school libraries\, as well as those seeking a refresher. \nThis PD will help you get started with:   – Logging in and using your library system  – Accessing the Library Services Handbook  – Circulating materials  – Introduction to cataloging  – Basic reports.  \nPlease bring a scanner if you have one available.
URL:https://www.metasolutions.net/event/meta-dayton-new-library-user-pd-registration/
LOCATION:META Solutions – Dayton\, 225 Linwood Street\, Dayton\, OH\, 45405\, United States
CATEGORIES:Library Services
END:VEVENT
BEGIN:VEVENT
DTSTART;TZID=America/New_York:20260820T090000
DTEND;TZID=America/New_York:20260820T150000
DTSTAMP:20260419T134046
CREATED:20260415T153511Z
LAST-MODIFIED:20260419T155007Z
UID:20001117-1787216400-1787238000@www.metasolutions.net
SUMMARY:META-Piketon New Library User PD
DESCRIPTION:In-person training for new library staff or those needing a refresher on library software\, circulation\, cataloging\, and reports.\n\n\nJoin us for the New Library User/Refresher session. This in-person session is designed to support individuals new to working in school libraries\, as well as those seeking a refresher.This PD will help you get started with:  \n  – Logging in and using your library system  – Accessing the Library Services Handbook  – Circulating materials  – Introduction to cataloging  – Basic reports.  \nPlease bring a scanner if you have one available.
URL:https://www.metasolutions.net/event/meta-piketon-new-library-user-pd/
LOCATION:META Solutions – Piketon\, 175 Beaver Creek Road\, Piketon\, OH\, 45661\, United States
CATEGORIES:Library Services
END:VEVENT
BEGIN:VEVENT
DTSTART;TZID=America/New_York:20260825T100000
DTEND;TZID=America/New_York:20260825T113000
DTSTAMP:20260419T134046
CREATED:20260313T140658Z
LAST-MODIFIED:20260313T140658Z
UID:20001084-1787652000-1787657400@www.metasolutions.net
SUMMARY:PB EMIS Monthly Update (EMU) August FY27*
DESCRIPTION:The PB EMIS Monthly Update (EMU) is a webinar series for the FY27 school year. Each session highlights specific areas that districts should currently review or focus on. \nWhile the sessions are tailored to the StudentInformation/DASL software\, EMIS Coordinators using different SIS software may find the information beneficial. \nLink to the zoom as well as the handouts will be sent out after 1pm the day before the scheduled zoom. \nEach session will be recorded and posted to the META website along with the presentation handouts. \nTo find the recording/documents\, go to metasolutions.net\, member resources\, EMIS\, links & documents\, META EMIS secure documents\, PB EMIS monthly updates. There you will find our entire EMU presentation history. \nREGISTRATION IS REQUIRED for this online event!
URL:https://www.metasolutions.net/event/pb-emis-monthly-update-emu-august-fy27/
LOCATION:Virtual Webinar
CATEGORIES:EMIS
END:VEVENT
END:VCALENDAR