BEGIN:VCALENDAR
VERSION:2.0
PRODID:-//META Solutions - ECPv6.15.20//NONSGML v1.0//EN
CALSCALE:GREGORIAN
METHOD:PUBLISH
X-WR-CALNAME:META Solutions
X-ORIGINAL-URL:https://www.metasolutions.net
X-WR-CALDESC:Events for META Solutions
REFRESH-INTERVAL;VALUE=DURATION:PT1H
X-Robots-Tag:noindex
X-PUBLISHED-TTL:PT1H
BEGIN:VTIMEZONE
TZID:America/New_York
BEGIN:DAYLIGHT
TZOFFSETFROM:-0500
TZOFFSETTO:-0400
TZNAME:EDT
DTSTART:20250309T070000
END:DAYLIGHT
BEGIN:STANDARD
TZOFFSETFROM:-0400
TZOFFSETTO:-0500
TZNAME:EST
DTSTART:20251102T060000
END:STANDARD
BEGIN:DAYLIGHT
TZOFFSETFROM:-0500
TZOFFSETTO:-0400
TZNAME:EDT
DTSTART:20260308T070000
END:DAYLIGHT
BEGIN:STANDARD
TZOFFSETFROM:-0400
TZOFFSETTO:-0500
TZNAME:EST
DTSTART:20261101T060000
END:STANDARD
BEGIN:DAYLIGHT
TZOFFSETFROM:-0500
TZOFFSETTO:-0400
TZNAME:EDT
DTSTART:20270314T070000
END:DAYLIGHT
BEGIN:STANDARD
TZOFFSETFROM:-0400
TZOFFSETTO:-0500
TZNAME:EST
DTSTART:20271107T060000
END:STANDARD
END:VTIMEZONE
BEGIN:VEVENT
DTSTART;TZID=America/New_York:20260612T110000
DTEND;TZID=America/New_York:20260612T120000
DTSTAMP:20260421T085901
CREATED:20260120T172330Z
LAST-MODIFIED:20260120T172330Z
UID:20001007-1781262000-1781265600@www.metasolutions.net
SUMMARY:CrossCheck Power Hour 5 (Graduation)
DESCRIPTION:Topics: Graduation\n\n\n\nThe CrossCheck team is returning for an updated CrossCheck Power Hour series! This training will be provided by Microsoft Teams and is meant to dive deeper into the checks\, the data behind them\, and provide troubleshooting tips. This is one training of a 5 part series. To ensure we have enough time to cover the check information\, we will not be covering basic information on how the application works. This session will cover the graduation related dashboards\, checks\, and merged files.
URL:https://www.metasolutions.net/event/crosscheck-power-hour-5-graduation/
CATEGORIES:EMIS
LOCATION:https://www.metasolutions.net/event/crosscheck-power-hour-5-graduation/
END:VEVENT
END:VCALENDAR