BEGIN:VCALENDAR
VERSION:2.0
PRODID:-//META Solutions - ECPv6.15.20//NONSGML v1.0//EN
CALSCALE:GREGORIAN
METHOD:PUBLISH
X-WR-CALNAME:META Solutions
X-ORIGINAL-URL:https://www.metasolutions.net
X-WR-CALDESC:Events for META Solutions
REFRESH-INTERVAL;VALUE=DURATION:PT1H
X-Robots-Tag:noindex
X-PUBLISHED-TTL:PT1H
BEGIN:VTIMEZONE
TZID:America/New_York
BEGIN:DAYLIGHT
TZOFFSETFROM:-0500
TZOFFSETTO:-0400
TZNAME:EDT
DTSTART:20250309T070000
END:DAYLIGHT
BEGIN:STANDARD
TZOFFSETFROM:-0400
TZOFFSETTO:-0500
TZNAME:EST
DTSTART:20251102T060000
END:STANDARD
BEGIN:DAYLIGHT
TZOFFSETFROM:-0500
TZOFFSETTO:-0400
TZNAME:EDT
DTSTART:20260308T070000
END:DAYLIGHT
BEGIN:STANDARD
TZOFFSETFROM:-0400
TZOFFSETTO:-0500
TZNAME:EST
DTSTART:20261101T060000
END:STANDARD
BEGIN:DAYLIGHT
TZOFFSETFROM:-0500
TZOFFSETTO:-0400
TZNAME:EDT
DTSTART:20270314T070000
END:DAYLIGHT
BEGIN:STANDARD
TZOFFSETFROM:-0400
TZOFFSETTO:-0500
TZNAME:EST
DTSTART:20271107T060000
END:STANDARD
END:VTIMEZONE
BEGIN:VEVENT
DTSTART;TZID=America/New_York:20260304T090000
DTEND;TZID=America/New_York:20260304T120000
DTSTAMP:20260422T052349
CREATED:20260223T204715Z
LAST-MODIFIED:20260223T210405Z
UID:20001036-1772614800-1772625600@www.metasolutions.net
SUMMARY:ATH - EMIS Alliance Troubleshooting FTE Part 1
DESCRIPTION:This session will focus on troubleshooting the FTE Reports to resolve data reporting issues and to verify data for accuracy and completeness.
URL:https://www.metasolutions.net/event/ath-emis-alliance-troubleshooting-fte-part-1/
LOCATION:META Solutions – Athens\, 221 Columbus Road\, Athens\, OH\, 45701\, United States
CATEGORIES:EMIS
ATTACH;FMTTYPE=image/png:https://www.metasolutions.net/wp-content/uploads/2026/01/EMIS-Alliance-1.png
END:VEVENT
BEGIN:VEVENT
DTSTART;TZID=America/New_York:20260303T090000
DTEND;TZID=America/New_York:20260303T150000
DTSTAMP:20260422T052349
CREATED:20251212T182721Z
LAST-MODIFIED:20260203T191158Z
UID:20000935-1772528400-1772550000@www.metasolutions.net
SUMMARY:PowerScheduler-Virtual Workday
DESCRIPTION:Individual hour long workday sessions by appointment.
URL:https://www.metasolutions.net/event/powerscheduler-virtual-workday-8/
LOCATION:Virtual Webinar
CATEGORIES:Student Services - PowerSchool
END:VEVENT
BEGIN:VEVENT
DTSTART;TZID=America/New_York:20260227T110000
DTEND;TZID=America/New_York:20260227T120000
DTSTAMP:20260422T052349
CREATED:20260120T170949Z
LAST-MODIFIED:20260120T170949Z
UID:20001003-1772190000-1772193600@www.metasolutions.net
SUMMARY:CrossCheck Power Hour 1 (Assessment\, Calendar\, District Overview)
DESCRIPTION:Topics: Assessment Checks\, Calendar Checks\, District/Building Overview Dashboard\n\n\n\nThe CrossCheck team is returning for an updated CrossCheck Power Hour series! This training will be provided by Microsoft Teams and is meant to dive deeper into the checks\, the data behind them\, and provide troubleshooting tips. This is one training of a 5 part series. To ensure we have enough time to cover the check information\, we will not be covering basic information on how the application works. This session will cover: Assessment Checks\, Calendar Checks\, District/Building Overview Dashboard\, and Organizational Information Dashboard sections.
URL:https://www.metasolutions.net/event/crosscheck-power-hour-1-assessment-calendar-district-overview/
CATEGORIES:EMIS
LOCATION:https://www.metasolutions.net/event/crosscheck-power-hour-1-assessment-calendar-district-overview/
END:VEVENT
BEGIN:VEVENT
DTSTART;TZID=America/New_York:20260226T090000
DTEND;TZID=America/New_York:20260226T150000
DTSTAMP:20260422T052349
CREATED:20251230T143925Z
LAST-MODIFIED:20251230T143925Z
UID:20000975-1772096400-1772118000@www.metasolutions.net
SUMMARY:PowerScheduler - In Person Workday - Columbus
DESCRIPTION:The Scheduling Workday is designed for Schedulers to come and work at their own pace\, with assistance from the META staff.
URL:https://www.metasolutions.net/event/powerscheduler-in-person-workday-columbus-4/
LOCATION:META Solutions – Columbus\, 2100 Citygate Drive\, #suite b\, Columbus\, OH\, 43219\, United States
CATEGORIES:Student Services - PowerSchool
END:VEVENT
BEGIN:VEVENT
DTSTART;TZID=America/New_York:20260224T090000
DTEND;TZID=America/New_York:20260224T150000
DTSTAMP:20260422T052349
CREATED:20251212T164133Z
LAST-MODIFIED:20260203T191053Z
UID:20000927-1771923600-1771945200@www.metasolutions.net
SUMMARY:PowerScheduler-Virtual Workday
DESCRIPTION:Individual hour long workday sessions by appointment.
URL:https://www.metasolutions.net/event/powerscheduler-virtual-workday-7/
LOCATION:Virtual Webinar
CATEGORIES:Student Services - PowerSchool
END:VEVENT
BEGIN:VEVENT
DTSTART;TZID=America/New_York:20260218T090000
DTEND;TZID=America/New_York:20260218T150000
DTSTAMP:20260422T052349
CREATED:20251223T151150Z
LAST-MODIFIED:20251223T151432Z
UID:20000963-1771405200-1771426800@www.metasolutions.net
SUMMARY:PowerScheduler - In Person Workday - Strongsville
DESCRIPTION:The Scheduling Workday is designed for Schedulers to come and work at their own pace\, with assistance from the META staff.
URL:https://www.metasolutions.net/event/powerscheduler-in-person-workday-strongsville/
LOCATION:Strongsville Administrative Offices\, 18199 Cook Ave\, Strongsville\, United States
CATEGORIES:Student Services - PowerSchool
END:VEVENT
BEGIN:VEVENT
DTSTART;TZID=America/New_York:20260217T090000
DTEND;TZID=America/New_York:20260217T150000
DTSTAMP:20260422T052349
CREATED:20251212T163648Z
LAST-MODIFIED:20260203T190739Z
UID:20000926-1771318800-1771340400@www.metasolutions.net
SUMMARY:PowerScheduler-Virtual Workday
DESCRIPTION:Individual hour long workday sessions by appointment.
URL:https://www.metasolutions.net/event/powerscheduler-virtual-workday-6/
LOCATION:Virtual Webinar
CATEGORIES:Student Services - PowerSchool
END:VEVENT
BEGIN:VEVENT
DTSTART;TZID=America/New_York:20260212T090000
DTEND;TZID=America/New_York:20260212T120000
DTSTAMP:20260422T052349
CREATED:20251208T170607Z
LAST-MODIFIED:20251210T170442Z
UID:20000902-1770886800-1770897600@www.metasolutions.net
SUMMARY:Closing the Gap: Achieving Accurate SPED EMIS Data with SameGoal - META Piketon
DESCRIPTION:This essential session is designed for Special Education Directors and EMIS Coordinators to attend as a cohesive team. Data accuracy is a shared responsibility\, and inconsistencies between programmatic documentation (IEPs\, services) and state reporting (EMIS) can lead to critical funding and compliance issues. \nJoin us to learn how to streamline your special education reporting workflow using SameGoal’s powerful features. We will walk through practical steps and best practices to ensure that the data entered by your Special Education department accurately and consistently flows into your final EMIS submissions. \nWhat You Will Gain: \n\nA Shared Understanding: Align SPED programmatic priorities with EMIS technical requirements.\nError Reduction Strategies: Learn where reporting errors commonly occur and how SameGoal prevents them.\nWorkflow Optimization: Identify efficiencies in data entry\, validation\, and submission preparation.\nConfidence in Compliance: Ensure your district meet state mandates and maximizes allowable funding based on accurate data.\n\nRegister today to close the data gap and build a stronger\, more accurate reporting process together.  \nPlease register each participant separately so that we can have accurate seating available for this in-person only session at the Pike County Career Tech Center
URL:https://www.metasolutions.net/event/closing-the-gap-achieving-accurate-sped-emis-data-with-samegoal/
LOCATION:Pike County Career Technology Center\, 175 Beaver Creek Road\, Piketon\, OH\, 45661\, United States
CATEGORIES:EMIS,Student Services - ProgressBook
END:VEVENT
BEGIN:VEVENT
DTSTART;TZID=America/New_York:20260211T090000
DTEND;TZID=America/New_York:20260211T150000
DTSTAMP:20260422T052349
CREATED:20251223T145338Z
LAST-MODIFIED:20251223T145338Z
UID:20000962-1770800400-1770822000@www.metasolutions.net
SUMMARY:PowerScheduler - In Person Workday - Columbus
DESCRIPTION:The Scheduling Workday is designed for Schedulers to come and work at their own pace\, with assistance from the META staff.
URL:https://www.metasolutions.net/event/powerscheduler-in-person-workday-columbus-3/
LOCATION:META Solutions – Columbus\, 2100 Citygate Drive\, #suite b\, Columbus\, OH\, 43219\, United States
CATEGORIES:Student Services - PowerSchool
END:VEVENT
BEGIN:VEVENT
DTSTART;TZID=America/New_York:20260211T090000
DTEND;TZID=America/New_York:20260211T100000
DTSTAMP:20260422T052349
CREATED:20250730T182920Z
LAST-MODIFIED:20250730T182920Z
UID:20000485-1770800400-1770804000@www.metasolutions.net
SUMMARY:OPEW - Online Piketon EMIS Workshop
DESCRIPTION:Online Piketon EMIS Workshop – Zoom ONLY – No registration is required\n\n\nPop into my informal Zoom session to get your EMIS questions answered or just hear what others are asking. You’re welcome to join for the whole time or drop in whenever you like! This isn’t a training—think of it as a help session tailored to your EMIS needs on that day. \nTo make it interactive\, please have a headset/microphone ready and feel free to unmute and ask away! \nI’ll send the Zoom link to all Piketon email recipients the day before the session. \nAny questions about the Online Piketon EMIS Workshops? Let me know! \nCindy Angel
URL:https://www.metasolutions.net/event/opew-online-piketon-emis-workshop-8/
CATEGORIES:EMIS
END:VEVENT
BEGIN:VEVENT
DTSTART;TZID=America/New_York:20260210T090000
DTEND;TZID=America/New_York:20260210T150000
DTSTAMP:20260422T052349
CREATED:20251212T162907Z
LAST-MODIFIED:20260203T190652Z
UID:20000925-1770714000-1770735600@www.metasolutions.net
SUMMARY:PowerScheduler-Virtual Workday
DESCRIPTION:Individual hour long workday sessions by appointment.
URL:https://www.metasolutions.net/event/powerscheduler-virtual-workday-5/
LOCATION:Virtual Webinar
CATEGORIES:Student Services - PowerSchool
END:VEVENT
BEGIN:VEVENT
DTSTART;TZID=America/New_York:20260205T090000
DTEND;TZID=America/New_York:20260205T150000
DTSTAMP:20260422T052349
CREATED:20251223T144948Z
LAST-MODIFIED:20251223T144948Z
UID:20000961-1770282000-1770303600@www.metasolutions.net
SUMMARY:PowerScheduler - In Person Workday - Marion
DESCRIPTION:The Scheduling Workday is designed for Schedulers to come and work at their own pace\, with assistance from the META staff.
URL:https://www.metasolutions.net/event/powerscheduler-in-person-workday-marion-2/
LOCATION:META Solutions – Marion\, 100 Executive Drive\, Marion\, OH\, 43302\, United States
CATEGORIES:Student Services - PowerSchool
END:VEVENT
BEGIN:VEVENT
DTSTART;TZID=America/New_York:20260203T090000
DTEND;TZID=America/New_York:20260203T150000
DTSTAMP:20260422T052349
CREATED:20251212T162318Z
LAST-MODIFIED:20260202T143202Z
UID:20000924-1770109200-1770130800@www.metasolutions.net
SUMMARY:PowerScheduler-Virtual Workday
DESCRIPTION:Individual hour long workday sessions by appointment.
URL:https://www.metasolutions.net/event/powerscheduler-virtual-workday-4/
LOCATION:Virtual Webinar
CATEGORIES:Student Services - PowerSchool
END:VEVENT
BEGIN:VEVENT
DTSTART;TZID=America/New_York:20260129T090000
DTEND;TZID=America/New_York:20260129T150000
DTSTAMP:20260422T052349
CREATED:20260128T173104Z
LAST-MODIFIED:20260128T174823Z
UID:20001018-1769677200-1769698800@www.metasolutions.net
SUMMARY:PowerScheduler-Virtual Workday
DESCRIPTION:Individual hour long workday sessions by appointment.
URL:https://www.metasolutions.net/event/powerscheduler-virtual-workday-23/
LOCATION:Virtual Webinar
CATEGORIES:Student Services - PowerSchool
END:VEVENT
BEGIN:VEVENT
DTSTART;TZID=America/New_York:20260129T090000
DTEND;TZID=America/New_York:20260129T150000
DTSTAMP:20260422T052349
CREATED:20251223T143328Z
LAST-MODIFIED:20260128T190331Z
UID:20000958-1769677200-1769698800@www.metasolutions.net
SUMMARY:PowerScheduler - In Person Workday - Columbus
DESCRIPTION:The Scheduling Workday is designed for Schedulers to come and work at their own pace\, with assistance from the META staff.
URL:https://www.metasolutions.net/event/powerscheduler-in-person-workday-columbus-2/
LOCATION:META Solutions – Columbus\, 2100 Citygate Drive\, #suite b\, Columbus\, OH\, 43219\, United States
CATEGORIES:Student Services - PowerSchool
END:VEVENT
BEGIN:VEVENT
DTSTART;TZID=America/New_York:20260127T090000
DTEND;TZID=America/New_York:20260127T150000
DTSTAMP:20260422T052349
CREATED:20251212T155429Z
LAST-MODIFIED:20251212T155644Z
UID:20000923-1769504400-1769526000@www.metasolutions.net
SUMMARY:PowerScheduler-Virtual Workday
DESCRIPTION:Individual hour long workday sessions by appointment.
URL:https://www.metasolutions.net/event/powerscheduler-virtual-workday-3/
LOCATION:Virtual Webinar
CATEGORIES:Student Services - PowerSchool
END:VEVENT
BEGIN:VEVENT
DTSTART;TZID=America/New_York:20260122T123000
DTEND;TZID=America/New_York:20260122T150000
DTSTAMP:20260422T052349
CREATED:20251203T192837Z
LAST-MODIFIED:20251211T183428Z
UID:20000897-1769085000-1769094000@www.metasolutions.net
SUMMARY:PowerScheduler-Virtual Workday
DESCRIPTION:Individual hour long workday sessions by appointment.
URL:https://www.metasolutions.net/event/powerscheduler-virtual-workday-2/
LOCATION:Virtual Webinar
CATEGORIES:Student Services - PowerSchool
END:VEVENT
END:VCALENDAR