BEGIN:VCALENDAR
VERSION:2.0
PRODID:-//META Solutions - ECPv6.15.20//NONSGML v1.0//EN
CALSCALE:GREGORIAN
METHOD:PUBLISH
X-WR-CALNAME:META Solutions
X-ORIGINAL-URL:https://www.metasolutions.net
X-WR-CALDESC:Events for META Solutions
REFRESH-INTERVAL;VALUE=DURATION:PT1H
X-Robots-Tag:noindex
X-PUBLISHED-TTL:PT1H
BEGIN:VTIMEZONE
TZID:America/New_York
BEGIN:DAYLIGHT
TZOFFSETFROM:-0500
TZOFFSETTO:-0400
TZNAME:EDT
DTSTART:20250309T070000
END:DAYLIGHT
BEGIN:STANDARD
TZOFFSETFROM:-0400
TZOFFSETTO:-0500
TZNAME:EST
DTSTART:20251102T060000
END:STANDARD
BEGIN:DAYLIGHT
TZOFFSETFROM:-0500
TZOFFSETTO:-0400
TZNAME:EDT
DTSTART:20260308T070000
END:DAYLIGHT
BEGIN:STANDARD
TZOFFSETFROM:-0400
TZOFFSETTO:-0500
TZNAME:EST
DTSTART:20261101T060000
END:STANDARD
BEGIN:DAYLIGHT
TZOFFSETFROM:-0500
TZOFFSETTO:-0400
TZNAME:EDT
DTSTART:20270314T070000
END:DAYLIGHT
BEGIN:STANDARD
TZOFFSETFROM:-0400
TZOFFSETTO:-0500
TZNAME:EST
DTSTART:20271107T060000
END:STANDARD
END:VTIMEZONE
BEGIN:VEVENT
DTSTART;TZID=America/New_York:20260325T090000
DTEND;TZID=America/New_York:20260325T120000
DTSTAMP:20260419T182233
CREATED:20260304T200442Z
LAST-MODIFIED:20260304T200442Z
UID:20001051-1774429200-1774440000@www.metasolutions.net
SUMMARY:ATH IC Calendar Refresher
DESCRIPTION:Calendar day event refresher training using Infinite Campus Student Information System.
URL:https://www.metasolutions.net/event/calendar_refresher/
LOCATION:META Athens Training Room\, 221 Columbus Road\, Athens\, OH\, 45701\, United States
CATEGORIES:EMIS,Student Services - Infinite Campus
END:VEVENT
END:VCALENDAR